BEGIN:VCALENDAR
VERSION:2.0
PRODID:-//Leamington Cafe Scientifique - ECPv6.15.20//NONSGML v1.0//EN
CALSCALE:GREGORIAN
METHOD:PUBLISH
X-WR-CALNAME:Leamington Cafe Scientifique
X-ORIGINAL-URL:https://www.leamingtoncafesci.org
X-WR-CALDESC:Events for Leamington Cafe Scientifique
REFRESH-INTERVAL;VALUE=DURATION:PT1H
X-Robots-Tag:noindex
X-PUBLISHED-TTL:PT1H
BEGIN:VTIMEZONE
TZID:Europe/London
BEGIN:DAYLIGHT
TZOFFSETFROM:+0000
TZOFFSETTO:+0100
TZNAME:BST
DTSTART:20250330T010000
END:DAYLIGHT
BEGIN:STANDARD
TZOFFSETFROM:+0100
TZOFFSETTO:+0000
TZNAME:GMT
DTSTART:20251026T010000
END:STANDARD
BEGIN:DAYLIGHT
TZOFFSETFROM:+0000
TZOFFSETTO:+0100
TZNAME:BST
DTSTART:20260329T010000
END:DAYLIGHT
BEGIN:STANDARD
TZOFFSETFROM:+0100
TZOFFSETTO:+0000
TZNAME:GMT
DTSTART:20261025T010000
END:STANDARD
BEGIN:DAYLIGHT
TZOFFSETFROM:+0000
TZOFFSETTO:+0100
TZNAME:BST
DTSTART:20270328T010000
END:DAYLIGHT
BEGIN:STANDARD
TZOFFSETFROM:+0100
TZOFFSETTO:+0000
TZNAME:GMT
DTSTART:20271031T010000
END:STANDARD
END:VTIMEZONE
BEGIN:VEVENT
DTSTART;TZID=Europe/London:20260518T193000
DTEND;TZID=Europe/London:20260518T210000
DTSTAMP:20260424T125458
CREATED:20250709T212422Z
LAST-MODIFIED:20260213T085848Z
UID:1642-1779132600-1779138000@www.leamingtoncafesci.org
SUMMARY:Could fish slime lead to faster\, more efficient vehicles?
DESCRIPTION:Dr Paul Griffiths\, Senior Lecturer in Applied Mathematics\, Aston University
URL:https://www.leamingtoncafesci.org/event/could-fish-slime-lead-to-faster-more-efficient-vehicles/
LOCATION:St Patricks Irish Club\, 4 Adelaide Road\, Leamington Spa\, CV31 3PW
CATEGORIES:Monthly meeting
END:VEVENT
BEGIN:VEVENT
DTSTART;TZID=Europe/London:20260615T193000
DTEND;TZID=Europe/London:20260615T210000
DTSTAMP:20260424T125458
CREATED:20260414T191333Z
LAST-MODIFIED:20260415T152524Z
UID:1732-1781551800-1781557200@www.leamingtoncafesci.org
SUMMARY:Oral Biology
DESCRIPTION:Practising dentist Hanni Mostafa will be discussing the science behind oral biology and its links to whole body health. Much in the news in recent years\, this topic will likely get all our audience self consciously thinking what they should be doing about it!
URL:https://www.leamingtoncafesci.org/event/oral-biology/
LOCATION:St Patricks Irish Club\, 4 Adelaide Road\, Leamington Spa\, CV31 3PW
CATEGORIES:Monthly meeting
END:VEVENT
BEGIN:VEVENT
DTSTART;TZID=Europe/London:20260720T193000
DTEND;TZID=Europe/London:20260720T210000
DTSTAMP:20260424T125458
CREATED:20260329T200234Z
LAST-MODIFIED:20260416T203045Z
UID:1724-1784575800-1784581200@www.leamingtoncafesci.org
SUMMARY:Understanding our local geology
DESCRIPTION:Professor Stuart Burley\, of the Warwickshire Geology Conservation Group is a vastly experienced geologist. He holds an Honorary Chair at Keele University and a practising researcher across the world. He is an Editorial Board Member of the Journal of Petroleum Geology and of Petroleum Geoscience. He will focus this talk on our local rocks\, perhaps including the fascinating quarry at Guys Cliff\, and the approaches to Warwick Castle.
URL:https://www.leamingtoncafesci.org/event/tbc/
LOCATION:St Patricks Irish Club\, 4 Adelaide Road\, Leamington Spa\, CV31 3PW
CATEGORIES:Monthly meeting
END:VEVENT
BEGIN:VEVENT
DTSTART;TZID=Europe/London:20260921T193000
DTEND;TZID=Europe/London:20260921T193000
DTSTAMP:20260424T125458
CREATED:20260416T084353Z
LAST-MODIFIED:20260416T084354Z
UID:1744-1790019000-1790019000@www.leamingtoncafesci.org
SUMMARY:Understanding Website Hosting: Insights from Neil Batchelor
DESCRIPTION:Neil Batchelor\, who owns Encode\, the company that hosts the websites of Cafe Sci\, as well as The Leamington Society and the Leamington History Group\, will explain how hosting companies enable websites to work safely. Although many small organisations try to run their own systems they may well be vulnerable to security and continuity problems. Neil will outline the basics of how websites actually work\, and the interaction with the design of a site. You can expect quite a few surprises\, and have the chance to ask specific questions afterwards.
URL:https://www.leamingtoncafesci.org/event/understanding-website-hosting-insights-from-neil-batchelor/
LOCATION:St Patricks Irish Club\, 4 Adelaide Road\, Leamington Spa\, CV31 3PW
END:VEVENT
BEGIN:VEVENT
DTSTART;TZID=Europe/London:20261019T193000
DTEND;TZID=Europe/London:20261019T210000
DTSTAMP:20260424T125458
CREATED:20260301T202927Z
LAST-MODIFIED:20260417T072342Z
UID:1713-1792438200-1792443600@www.leamingtoncafesci.org
SUMMARY:The Development of the Land Rover
DESCRIPTION:This is a follow-up session from our friends at the British Motor Museum at Gaydon. They provided a splendid explanation last autumn of the development of the E-Type Jaguar\, and what could be a better follow-up  than that of the Land Rover. We will provide details of the presenters closer to the time
URL:https://www.leamingtoncafesci.org/event/the-development-of-the-land-rover/
LOCATION:St Patricks Irish Club\, 4 Adelaide Road\, Leamington Spa\, CV31 3PW
CATEGORIES:Monthly meeting
END:VEVENT
BEGIN:VEVENT
DTSTART;TZID=Europe/London:20261116T193000
DTEND;TZID=Europe/London:20261116T210000
DTSTAMP:20260424T125458
CREATED:20260415T120122Z
LAST-MODIFIED:20260415T155306Z
UID:1735-1794857400-1794862800@www.leamingtoncafesci.org
SUMMARY:The developing world of 3D printing
DESCRIPTION:Our speaker\, Rory Deely\, is a recent graduate from Loughborough University\, and is involved with several 3D Printing projects as well as building his own business in the field. He will discuss the principles of this rapidly growing technology\, with some practical examples that might make excellent Christmas presents
URL:https://www.leamingtoncafesci.org/event/the-developing-world-of-3d-printing/
LOCATION:St Patricks Irish Club\, 4 Adelaide Road\, Leamington Spa\, CV31 3PW
CATEGORIES:Monthly meeting
END:VEVENT
END:VCALENDAR